BEGIN:VCALENDAR
VERSION:2.0
PRODID:-//LAT NRW - ECPv6.15.11//NONSGML v1.0//EN
CALSCALE:GREGORIAN
METHOD:PUBLISH
X-WR-CALNAME:LAT NRW
X-ORIGINAL-URL:https://latnrw.de
X-WR-CALDESC:Veranstaltungen für LAT NRW
REFRESH-INTERVAL;VALUE=DURATION:PT1H
X-Robots-Tag:noindex
X-PUBLISHED-TTL:PT1H
BEGIN:VTIMEZONE
TZID:Europe/Berlin
BEGIN:DAYLIGHT
TZOFFSETFROM:+0100
TZOFFSETTO:+0200
TZNAME:CEST
DTSTART:20240331T010000
END:DAYLIGHT
BEGIN:STANDARD
TZOFFSETFROM:+0200
TZOFFSETTO:+0100
TZNAME:CET
DTSTART:20241027T010000
END:STANDARD
BEGIN:DAYLIGHT
TZOFFSETFROM:+0100
TZOFFSETTO:+0200
TZNAME:CEST
DTSTART:20250330T010000
END:DAYLIGHT
BEGIN:STANDARD
TZOFFSETFROM:+0200
TZOFFSETTO:+0100
TZNAME:CET
DTSTART:20251026T010000
END:STANDARD
BEGIN:DAYLIGHT
TZOFFSETFROM:+0100
TZOFFSETTO:+0200
TZNAME:CEST
DTSTART:20260329T010000
END:DAYLIGHT
BEGIN:STANDARD
TZOFFSETFROM:+0200
TZOFFSETTO:+0100
TZNAME:CET
DTSTART:20261025T010000
END:STANDARD
END:VTIMEZONE
BEGIN:VEVENT
DTSTART;TZID=Europe/Berlin:20250730T120000
DTEND;TZID=Europe/Berlin:20250730T170000
DTSTAMP:20260425T181348
CREATED:20250723T084748Z
LAST-MODIFIED:20250723T084830Z
UID:2080-1753876800-1753894800@latnrw.de
SUMMARY:LAT
DESCRIPTION:Liebe Studierendenschaften\,liebe Referent*innen\,liebe Interessierte\, \n\ndie Koordination möchte euch herzlichst zum LAT am Mittwoch\, den 30.07.2025 um 12 Uhr einladen. Die Sitzung findet Online via Zoom statt.\n \n\nHier der Zoom-Link: 🔗 https://uni-koeln.zoom.us/j/97877628835?pwd=Otv1KNW34CJzGTN3YNoNFup280XtZj.1\nMeeting-ID: 978 7762 8835 | Passwort: 888313\n\nEs wird darum gebeten\, dass eure Studierendenschaft der amtierenden Koordination qualifiziert mitteilt\, wer eure Studierendenschaft auf dem LAT vertritt und die Stimme führt. Das entsprechende Formular dazu findet ihr hier:👉 http://latnrw.de/entsendung/ \n\nWenn ihr bereits ein solches Formular eingereicht habt\, so sind diejenigen Personen für euren AStA stimmberechtigt\, die auf dem Formular namentlich aufgelistet sind. Falls sich in der Zwischenzeit etwas in eurem AStA geändert hat\, reicht bitte einfach ein neues Formular ein. Natürlich könnt ihr das Formular auch per E-Mail einreichen.\n\nHier das Protokoll des letzten LAT: LAT-Vollversammlung 25.06.2025 – LAT NRW – Pad LAT-Vollversammlung 25.06.2025 – LAT NRW – HoPo-Portal\n\nHier das Pad für die kommende Sitzung: LAT 30.07.2025 – LAT NRW – Pad LAT 30.07.2025 – LAT NRW – HoPo-Portal\n\n\nVorgeschlagene Tagesordnung\n\n1. Formalia    \n\n      1.1 Begrüßung\, Vorstellung\, Festlegung der endgültigen Tagesordnung\, Abnahme des letzten Protokolls und Protokollführung     \n      1.2 LAT-Termine     \n      1.3 Pressemitteilungen und Stellungnahmen    \n      1.4 Drucksachen (Anträge\, kleine/große Anfragen mit Hochschulbezug) \n2. BaföG-Papier des LAT NRW\n3. Entsendungen\n – Tarek\n – Benjamin\n4. Berichte\n4.1 LAT-KO\n4.2 Sonder-LATs\n4.3 fzs\n4.4 Rundlauf der ASten\n5. Verschiedenes\n\nWenn ihr noch Fragen vor der Sitzung habt oder weitere Themen ansprechen wollt\, meldet euch gerne bei uns. Wir freuen uns auf die Sitzung!
URL:https://latnrw.de/event/lat-am-30-07/
LOCATION:Online
END:VEVENT
END:VCALENDAR