BEGIN:VCALENDAR
VERSION:2.0
PRODID:-//LAT NRW - ECPv6.15.11//NONSGML v1.0//EN
CALSCALE:GREGORIAN
METHOD:PUBLISH
X-ORIGINAL-URL:https://latnrw.de
X-WR-CALDESC:Veranstaltungen für LAT NRW
REFRESH-INTERVAL;VALUE=DURATION:PT1H
X-Robots-Tag:noindex
X-PUBLISHED-TTL:PT1H
BEGIN:VTIMEZONE
TZID:Europe/Berlin
BEGIN:DAYLIGHT
TZOFFSETFROM:+0100
TZOFFSETTO:+0200
TZNAME:CEST
DTSTART:20240331T010000
END:DAYLIGHT
BEGIN:STANDARD
TZOFFSETFROM:+0200
TZOFFSETTO:+0100
TZNAME:CET
DTSTART:20241027T010000
END:STANDARD
BEGIN:DAYLIGHT
TZOFFSETFROM:+0100
TZOFFSETTO:+0200
TZNAME:CEST
DTSTART:20250330T010000
END:DAYLIGHT
BEGIN:STANDARD
TZOFFSETFROM:+0200
TZOFFSETTO:+0100
TZNAME:CET
DTSTART:20251026T010000
END:STANDARD
BEGIN:DAYLIGHT
TZOFFSETFROM:+0100
TZOFFSETTO:+0200
TZNAME:CEST
DTSTART:20260329T010000
END:DAYLIGHT
BEGIN:STANDARD
TZOFFSETFROM:+0200
TZOFFSETTO:+0100
TZNAME:CET
DTSTART:20261025T010000
END:STANDARD
END:VTIMEZONE
BEGIN:VEVENT
DTSTART;TZID=Europe/Berlin:20250528T120000
DTEND;TZID=Europe/Berlin:20250528T180000
DTSTAMP:20260425T212436
CREATED:20250227T134541Z
LAST-MODIFIED:20250521T075730Z
UID:1998-1748433600-1748455200@latnrw.de
SUMMARY:Wahl-LAT -in Präsenz-
DESCRIPTION:Liebe Studierendenschaften\,liebe Referent*innen\,liebe Interessierte\,\n\ndie Koordination möchte euch herzlichst zum nächsten Wahl-LAT am Mittwoch\, den 28.05.2025 von 12:00 bis maximal 18:00 Uhr einladen. Die Sitzung findet ausschließlich in Präsenz statt\, da es sich um ein Wahl-LAT handelt und wir eine Stelle in der Koordination nachwählen möchten.\n\nDas Treffen findet an der Westfälischen Hochschule – Campus Gelsenkirchen\, im Senatssaal statt.\n\nDie Anschrift lautet:Westfälische HochschuleCampus GelsenkirchenNeidenburger Straße 4345897 Gelsenkirchen\n\nDer Senatssaal befindet sich im Gebäude B. Der Raum ist ausgeschildert.\n\nEs wird darum gebeten\, dass eure Studierendenschaft der amtierenden Koordination qualifiziert mitteilt\, wer eure Studierendenschaft auf dem LAT vertritt und die Stimme führt. Das entsprechende Formular dazu findet ihr hier:👉 http://latnrw.de/entsendung/\n\nWenn ihr bereits ein solches Formular eingereicht habt\, so sind diejenigen Personen für euren AStA stimmberechtigt\, die auf dem Formular namentlich aufgelistet sind. Falls sich in der Zwischenzeit etwas in eurem AStA geändert hat\, reicht bitte einfach ein neues Formular ein. Natürlich könnt ihr das Formular auch per E-Mail einreichen.\n\nHier das Protokoll des letzten LAT: (41) Pad LAT 30.04.2025 – LAT NRW – HoPo-Portal\n\nVorgeschlagene Tagesordnung\n\n\nFormalia 1.1 Begrüßung\, Vorstellung\, Festlegung der endgültigen Tagesordnung und Protokollführung 1.2 LAT-Termine 1.3 Pressemitteilungen und Stellungnahmen 1.4 Drucksachen (Anträge\, kleine/große Anfragen mit Hochschulbezug)\n\n\n\nWahlen Es gibt zwei Kandidaturen: – Sarah Jovic – Katrin Greiner\n\n\n\nÄnderung der Satzung \n\n\n\nAustausch über die bestehenden Kampagnen des LAT\n\n\n\nBerichte 5.1 Berichte der Sonder-LATs 5.2 Bericht des fzs 5.3 Bericht der LAT-Koordination  5.4 Rundlauf der ASten/Studierendenschaften (Im Protokoll werden auch schriftlich eingegangene Berichte abwesender ASten mit angefügt)\n\n\n\n Bitte strukturiert die Berichte schon einmal im Pad vor: 👉 (41) Pad Wahl-LAT 28.05.2025 – LAT NRW – HoPo-Portal\n\n Fragen für die Vorbereitung: – Was hat eure Studierendenschaft in letzter Zeit am meisten bewegt? – Was könnte andere Studierendenschaften interessieren? – Was habt ihr in nächster Zeit politisch vor?\n\n\nSonstiges\n\n\nWenn ihr noch Fragen vor der Sitzung habt oder weitere Themen ansprechen wollt\, meldet euch gerne bei uns. Wir freuen uns auf die Sitzung!\n\nViele GrüßeEure LAT-KO
URL:https://latnrw.de/event/wahl-lat-in-praesenz/
END:VEVENT
END:VCALENDAR