BEGIN:VCALENDAR
VERSION:2.0
PRODID:-//LAT NRW - ECPv6.15.11//NONSGML v1.0//EN
CALSCALE:GREGORIAN
METHOD:PUBLISH
X-ORIGINAL-URL:https://latnrw.de
X-WR-CALDESC:Veranstaltungen für LAT NRW
REFRESH-INTERVAL;VALUE=DURATION:PT1H
X-Robots-Tag:noindex
X-PUBLISHED-TTL:PT1H
BEGIN:VTIMEZONE
TZID:Europe/Berlin
BEGIN:DAYLIGHT
TZOFFSETFROM:+0100
TZOFFSETTO:+0200
TZNAME:CEST
DTSTART:20240331T010000
END:DAYLIGHT
BEGIN:STANDARD
TZOFFSETFROM:+0200
TZOFFSETTO:+0100
TZNAME:CET
DTSTART:20241027T010000
END:STANDARD
BEGIN:DAYLIGHT
TZOFFSETFROM:+0100
TZOFFSETTO:+0200
TZNAME:CEST
DTSTART:20250330T010000
END:DAYLIGHT
BEGIN:STANDARD
TZOFFSETFROM:+0200
TZOFFSETTO:+0100
TZNAME:CET
DTSTART:20251026T010000
END:STANDARD
BEGIN:DAYLIGHT
TZOFFSETFROM:+0100
TZOFFSETTO:+0200
TZNAME:CEST
DTSTART:20260329T010000
END:DAYLIGHT
BEGIN:STANDARD
TZOFFSETFROM:+0200
TZOFFSETTO:+0100
TZNAME:CET
DTSTART:20261025T010000
END:STANDARD
END:VTIMEZONE
BEGIN:VEVENT
DTSTART;TZID=Europe/Berlin:20251112T120000
DTEND;TZID=Europe/Berlin:20251112T170000
DTSTAMP:20260425T122542
CREATED:20251107T161946Z
LAST-MODIFIED:20251107T161946Z
UID:2178-1762948800-1762966800@latnrw.de
SUMMARY:Sonder-LAT Sozialpolitik
DESCRIPTION:
URL:https://latnrw.de/event/sonder-lat-sozialpolitik/
LOCATION:Online
END:VEVENT
BEGIN:VEVENT
DTSTART;TZID=Europe/Berlin:20251112T160000
DTEND;TZID=Europe/Berlin:20251112T170000
DTSTAMP:20260425T122542
CREATED:20251107T162120Z
LAST-MODIFIED:20251107T162120Z
UID:2180-1762963200-1762966800@latnrw.de
SUMMARY:#GenugGekürzt - Kampagne
DESCRIPTION:
URL:https://latnrw.de/event/genuggekuerzt-kampagne/
LOCATION:Online
END:VEVENT
BEGIN:VEVENT
DTSTART;TZID=Europe/Berlin:20251119T120000
DTEND;TZID=Europe/Berlin:20251119T170000
DTSTAMP:20260425T122542
CREATED:20251107T162203Z
LAST-MODIFIED:20251107T162203Z
UID:2182-1763553600-1763571600@latnrw.de
SUMMARY:Nachhaltigkeits LAT
DESCRIPTION:
URL:https://latnrw.de/event/nachhaltigkeits-lat-6/
LOCATION:Online
END:VEVENT
BEGIN:VEVENT
DTSTART;TZID=Europe/Berlin:20251126T120000
DTEND;TZID=Europe/Berlin:20251126T180000
DTSTAMP:20260425T122542
CREATED:20251112T145404Z
LAST-MODIFIED:20251112T151647Z
UID:2189-1764158400-1764180000@latnrw.de
SUMMARY:LAT-Vollversammlung am 26.11. um 12 Uhr an der RWTH Aachen
DESCRIPTION:Die Koordination lädt herzlichst zur nächsten LAT-Vollversammlung am Mittwoch\, den 26.11.2025 von 12:00 bis maximal 18:00 Uhr ein. Die Sitzung findet ausschließlich in Präsenz statt\, da wir dort eine neue Person in die LAT-Koordination wählen möchten \nDas Treffen findet an der RWTH Aachen statt. \nDie Anschrift lautet:\nRWTH Aachen\nHauptgebäude\nTemplergraben 55\,\n52062 Aachen \nGroßer Senatssaal (Raum 008) im Hauptgebäude. Der Raum ist ausgeschildert.\nFalls eine Anreise mit PKW geplant ist\, bitte vorher bei uns melden. \nEs wird darum gebeten\, dass eure Studierendenschaft der amtierenden Koordination qualifiziert mitteilt\, wer eure Studierendenschaft auf dem LAT vertritt und die Stimme führt. Das entsprechende Formular dazu findet ihr hier:\nhttp://latnrw.de/entsendung/ \nWenn ihr bereits ein solches Formular eingereicht habt\, so sind diejenigen Personen für euren AStA stimmberechtigt\, die auf dem Formular namentlich aufgelistet sind. Falls sich in der Zwischenzeit etwas in eurem AStA geändert hat\, reicht bitte einfach ein neues Formular ein. Natürlich könnt ihr das Formular auch per E-Mail einreichen. \nHier das Protokoll des letzten LAT: https://portal.fzs.de/group/lat-nrw/document/lat-29102025/?v=3 \nVorgeschlagene Tagesordnung: \n1.Formalia \n1.1 Begrüßung\, Vorstellung\, Festlegung der Sitzungsleitung\, Festlegung der endgültigen Tagesordnung\, Abnahme des letzten Protokolls\, Protokollführung \n1.2 LAT-Termine \n1.3 Pressemitteilungen und Stellungnahmen \n1.4 Drucksachen (Anträge\, kleine/große Anfragen mit Hochschulbezug) \n2.Finanzantrag LAT-KO \n3.Teilnahme des LAT NRW an Widersetzen Gießen \n4.Satzung/Ordnung ändernde Anträge \n5.Wahl zur Besetzung der ausgeschriebenen Koordinator*innen-Stelle in der LAT-KO \n– Mattes Schürfeld \n– Nils Lange \n– Tomy Vo \n– Marco Kolarevic \n6.Abstimmung Awareness-Konzept \n7.Abstimmung KI-Positionierung \n8.Updates zur Kampagne #genuggekürzt \n9.Berichte \n9.1 LAT-KO \n9.2 Sonder-LATs \n9.3 fzs \n9.4 Rundlauf der ASten \n10.Verschiedenes \nHier das Pad zur Sitzung: https://portal.fzs.de/group/lat-nrw/document/lat-vv-aachen-26112025/edit/?v=3 \nWenn ihr noch Fragen vor der Sitzung habt oder weitere Themen ansprechen wollt\, meldet euch gerne bei uns. Wir freuen uns auf die Sitzung! \nIm Nachgang an die Sitzung lädt der AStA der RWTH Aachen herzlich zu einer Campustour und einem lockeren Ausklang ein. \n 
URL:https://latnrw.de/event/lat-vollversammlung-am-26-11-um-12-uhr-an-der-rwth-aachen/
LOCATION:RWTH Aachen\, Templergraben 55\,\, Aachen\, NRW\, 44147\, Germany
END:VEVENT
BEGIN:VEVENT
DTSTART;TZID=Europe/Berlin:20251128T120000
DTEND;TZID=Europe/Berlin:20251128T180000
DTSTAMP:20260425T122542
CREATED:20251107T161901Z
LAST-MODIFIED:20251114T145646Z
UID:2176-1764331200-1764352800@latnrw.de
SUMMARY:HoPo Einstiegsseminar
DESCRIPTION:Hochschulpolitisches Einsteiger*innen-Seminar des LAT NRW \nDatum: 28.11.2025 \nOrt: Uni zu Köln; Universitätsstr. 33\, Gebäude 107 Seminarraum B VI \nDu bist neu in der Hochschulpolitik oder willst einfach besser verstehen\, wie deine Studierendenvertretung funktioniert? Dann ist unser Hochschulpolitisches Einsteiger*innen-Seminar genau das Richtige für dich! \nIn einem kompakten und abwechslungsreichen Tagesprogramm lernst du die Grundlagen der studentischen Selbstverwaltung\, Öffentlichkeitsarbeit und Projektarbeit kennen – und bekommst Einblicke in aktuelle hochschulpolitische Themen. \nTagesplan: \n🕐 12:30–13:30 Uhr – Vernetzung & Mittagspause \n🕐 13:30–14:30 Uhr – Einführung in die Verfasste Studierendenschaft \n🕐 14:30–15:30 Uhr – Tu Gutes und rede darüber! Grundlagen der Presse- undÖffentlichkeitsarbeit \n☕ 15:30–16:00 Uhr – Kaffeepause \n🕐 16:00–17:00 Uhr – Von der vagen Idee zum erfolgreich umgesetzten Projektim Gremiendschungel \n🕐 17:00–18:00 Uhr – Das Haus brennt: die soziale Lage der Studierenden in Deutschland \n🕐 18:00–19:00 Uhr – Offene Fragen & Abschlussrunde \nNeben spannenden Inputs bleibt viel Raum für Austausch\, Diskussion und Fragen. Egal ob du ganz neu dabei bist oder schon erste Erfahrungen in AStA\,StuPa oder Fachschaft gesammelt hast – dieses Seminar bietet dir Orientierung\, Wissen und Vernetzung. \n🕐 Jetzt anmelden und einsteigen in die Hochschulpolitik: Koordination@latnrw.de
URL:https://latnrw.de/event/hopo-einstiegsseminar/
LOCATION:Universität zu Köln\, Universitätsstr. 33 \, Seminarraum B VI\, Köln\, Germany
END:VEVENT
END:VCALENDAR